BEGIN:VCALENDAR
VERSION:2.0
PRODID:-//ChamberMaster//Event Calendar 2.0//EN
METHOD:PUBLISH
X-PUBLISHED-TTL:P3D
REFRESH-INTERVAL:P3D
CALSCALE:GREGORIAN
BEGIN:VEVENT
DTSTART:20181019T010000Z
DTEND:20181019T030000Z
X-MICROSOFT-CDO-ALLDAYEVENT:FALSE
SUMMARY:SIRO A
DESCRIPTION:Hailed as Japan's answer to Blue Man Group! Groundbreaking visual effects\, mime\, and a techno soundtrack create a sensational and live entertainment experience. Siro-A amazed the world with their humor-infused Golden Buzzer-winning performance on America's Got Talent. The production utilizes video-mapping\, light animation\, laser effects\, and 3D video projection with a vast projection screen as a backdrop. https://www.siro-a.com
X-ALT-DESC;FMTTYPE=text/html:Hailed as Japan&rsquo\;s answer to Blue Man Group! Groundbreaking visual effects\, mime\, and a techno soundtrack create a sensational and live entertainment experience. Siro-A amazed the world with their humor-infused Golden Buzzer-winning performance on America&rsquo\;s Got Talent. The production utilizes video-mapping\, light animation\, laser effects\, and 3D video projection with a vast projection screen as a backdrop. https://www.siro-a.com
LOCATION:Fine Arts Center Theatre
UID:e.1942.4668
SEQUENCE:3
DTSTAMP:20260421T013942Z
URL:http://www.silvercity.org/events/details/siro-a-4668
END:VEVENT

END:VCALENDAR
