BEGIN:VCALENDAR
VERSION:2.0
PRODID:-//ChamberMaster//Event Calendar 2.0//EN
METHOD:PUBLISH
X-PUBLISHED-TTL:P3D
REFRESH-INTERVAL:P3D
CALSCALE:GREGORIAN
BEGIN:VEVENT
DTSTART:20191129T170000Z
DTEND:20191129T220000Z
X-MICROSOFT-CDO-ALLDAYEVENT:FALSE
SUMMARY:Opt-Outside Black Friday Hike on Tadpole Ridge
DESCRIPTION:#OptOutside this Black Friday with a group hike on Tadpole Ridge in the Gila Forest. New Mexico Wilderness Alliance staff will lead you into areas proposed for Wilderness designation. Meet at the Murray Ryan Silver City Visitor's Center parking lot. Bring water\, snacks/lunch\, hat\, dress warm in layers as the hike is partially uphill. 4 to 5 miles round trip. Trail #232. For more information email: simon@nmwild.org Sponsored by New Mexico Wild\, Continental Divide Trail Coalition and REI.
X-ALT-DESC;FMTTYPE=text/html:#OptOutside this Black Friday with a group hike on Tadpole Ridge in the Gila Forest. New Mexico Wilderness Alliance staff will lead you into areas proposed for Wilderness designation. Meet at the Murray Ryan Silver City Visitor&#39\;s Center parking lot. Bring water\, snacks/lunch\, hat\, dress warm in layers as the hike is partially uphill. 4 to 5 miles round trip. Trail #232. For more information email: simon@nmwild.org Sponsored by New Mexico Wild\, Continental Divide Trail Coalition and REI.
LOCATION:Murray Ryan Silver City Visitor's Center located 201 North Hudson Street Silver City\, New Mexico 88061
UID:e.1942.5113
SEQUENCE:3
DTSTAMP:20260421T072657Z
URL:http://www.silvercity.org/events/details/opt-outside-black-friday-hike-on-tadpole-ridge-5113
END:VEVENT

END:VCALENDAR
