BEGIN:VCALENDAR
VERSION:2.0
PRODID:-//ChamberMaster//Event Calendar 2.0//EN
METHOD:PUBLISH
X-PUBLISHED-TTL:P3D
REFRESH-INTERVAL:P3D
CALSCALE:GREGORIAN
BEGIN:VEVENT
DTSTART:20190902T160000Z
DTEND:20190902T220000Z
X-MICROSOFT-CDO-ALLDAYEVENT:FALSE
SUMMARY:Grant County Rolling Stones 36th Annual Gem & Mineral Show
DESCRIPTION:The annual Gem and Mineral Show is a great family event!  Because of the popularity of this show\, there is always a large assortment of vendors\, there's fun trying the "Wheel of Fortune"\, you can win big at the Silent Auction\, and enjoy the Free Daily Field trips for Collecting.\n\n\n\nThe Grant County Rolling Stones Gem & Mineral Society schedules excellent Educational Speakers and Educational Displays featuring: New Mexico State University Zuhl Collection of Petrified Wood and the New Mexico Institute of Mining and Technology during the Labor Day weekend Show.\n\n\n\nFor additional information\, you should contact: Jeannine Weiner (575) 654-4424 or send an email to jweiner2011@hotmail.com.  You can also check for information at https://rollingstonesgms.blogspot.com.
X-ALT-DESC;FMTTYPE=text/html:The annual Gem and Mineral Show is a great family event!&nbsp\; Because of the popularity of this show\, there is always a large assortment of vendors\, there&#39\;s fun trying the &quot\;Wheel of Fortune&quot\;\, you can win big at the Silent Auction\, and enjoy the Free Daily Field trips for Collecting.<br />\n<br />\nThe Grant County Rolling Stones Gem &amp\; Mineral Society schedules excellent Educational Speakers and Educational Displays featuring: New Mexico State University Zuhl Collection of Petrified Wood and the New Mexico Institute of Mining and Technology during the Labor Day weekend Show.<br />\n<br />\nFor additional information\, you should contact: Jeannine Weiner (575) 654-4424 or send an email to <a href="mailto:jweiner2011@hotmail.com">jweiner2011@hotmail.com</a>.&nbsp\; You can also check for information at <a href="https://rollingstonesgms.blogspot.com">https://rollingstonesgms.blogspot.com</a>.
LOCATION:Grant County Veterans Memorial Business and Conference Center 3031 Highway 180 East in Silver City\, New Mexico
UID:e.1942.4827
SEQUENCE:3
DTSTAMP:20260419T151302Z
URL:http://www.silvercity.org/events/details/grant-county-rolling-stones-36th-annual-gem-mineral-show-4827
END:VEVENT

END:VCALENDAR
