BEGIN:VCALENDAR
VERSION:2.0
PRODID:-//ChamberMaster//Event Calendar 2.0//EN
METHOD:PUBLISH
X-PUBLISHED-TTL:P3D
REFRESH-INTERVAL:P3D
CALSCALE:GREGORIAN
BEGIN:VEVENT
DTSTART:20190323T160000Z
DTEND:20190323T190000Z
X-MICROSOFT-CDO-ALLDAYEVENT:FALSE
SUMMARY:17th Native Plant Pre-Sale
DESCRIPTION:A great variety of attractive native plants are available to order at the Gila Native Plant Society's 17th Annual Native Plant Pre-Sale. How does it work? You order plants in March and they will be ready for pick-up in late April\, just before Earth Day. Choose from a wide selection of native trees\, shrubs\, flowers\, cacti and grasses. Order in person at the ABC Room in the Global Resource Center\, where GNPS members can help you decide which plants will work best in your yard. Or order online at the GNPS website\, www.gilanps.org\, through April 8th. Plants will be available for pickup on Wednesday\, April 17\, 2019\, at the parking lot on 12th and Pope Streets across from Gough Park.
X-ALT-DESC;FMTTYPE=text/html:A great variety of attractive native plants are available to order at the Gila Native Plant Society&rsquo\;s 17th Annual Native Plant Pre-Sale. How does it work? You order plants in March and they will be ready for pick-up in late April\, just before Earth Day. Choose from a wide selection of native trees\, shrubs\, flowers\, cacti and grasses. Order in person at the ABC Room in the Global Resource Center\, where GNPS members can help you decide which plants will work best in your yard. Or order online at the GNPS website\, www.gilanps.org\, through April 8th. Plants will be available for pickup on Wednesday\, April 17\, 2019\, at the parking lot on 12th and Pope Streets across from Gough Park.
LOCATION:ABC Room in the Besse-Forward Global Resource Center on the campus of Western New Mexico University
UID:e.1942.4866
SEQUENCE:3
DTSTAMP:20260422T211120Z
URL:http://www.silvercity.org/events/details/17th-native-plant-pre-sale-4866
END:VEVENT

END:VCALENDAR
